BEGIN:VCALENDAR
VERSION:2.0
CREATED:20260418T050655Z
PRODID:-//Mammoth Energy Services\, Inc./Equisolve Calendar v1.0//EN
METHOD:PUBLISH
BEGIN:VEVENT
UID:f514ec0912d5a0b9eb9a4a32cf8530a2
DTSTAMP:20260420T135350Z
DTSTART:20260511T150000Z
DTEND:20260511T160000Z
SUMMARY:1Q 2026 Earnings Conference Call
DESCRIPTION:1Q 2026 Earnings Conference Call
Date: May 11\, 2026 11:00 am EDT
Webcast: https://event.choruscall.com/mediaframe/webcast.html?webcastid=irh13ebM
END:VEVENT
END:VCALENDAR
